BEGIN:VCALENDAR
VERSION:2.0
PRODID:-//USN//NONSGML usn.calendar//EN
CALSCALE:GREGORIAN
BEGIN:VEVENT
UID:69e630c9c884f-20170424T100000@usn.no
DTSTART:20170424T100000
DTEND:20170424T160000
DTSTAMP:20260420T155729
LOCATION:Drammen
DESCRIPTION:https://www.usn.no/forskning/doktorgradsutdanning/disputaser/2017/disputas-trude-klevan?instance=0
SUMMARY:Disputas: Trude Klevan
BEGIN:VALARM
TRIGGER:-PT30M
ACTION:DISPLAY
DESCRIPTION:Påminnelse
END:VALARM
END:VEVENT
END:VCALENDAR
