BEGIN:VCALENDAR
VERSION:2.0
PRODID:-//USN//NONSGML usn.calendar//EN
CALSCALE:GREGORIAN
BEGIN:VEVENT
UID:69ecc3fbf3d11-20170509T130000@usn.no
DTSTART:20170509T130000
DTEND:20170509T160000
DTSTAMP:20260425T153907
LOCATION:Vestfold
DESCRIPTION:https://www.usn.no/forskning/doktorgradsutdanning/disputaser/2017/disputas-birgitte-k-honsvall?instance=0
SUMMARY:Disputas: Birgitte K. Hønsvall
BEGIN:VALARM
TRIGGER:-PT30M
ACTION:DISPLAY
DESCRIPTION:Påminnelse
END:VALARM
END:VEVENT
END:VCALENDAR
