BEGIN:VCALENDAR
VERSION:2.0
PRODID:-//USN//NONSGML usn.calendar//EN
CALSCALE:GREGORIAN
BEGIN:VEVENT
UID:69e6da9ee39c1-20180601T100000@usn.no
DTSTART:20180601T100000
DTEND:20180601T160000
DTSTAMP:20260421T040206
LOCATION:Vestfold
DESCRIPTION:https://www.usn.no/forskning/doktorgradsutdanning/disputaser/2018/disputas-tone-langjordet-johnsen?instance=0
SUMMARY:Disputas: Tone Langjordet Johnsen
BEGIN:VALARM
TRIGGER:-PT30M
ACTION:DISPLAY
DESCRIPTION:Påminnelse
END:VALARM
END:VEVENT
END:VCALENDAR
