BEGIN:VCALENDAR
VERSION:2.0
PRODID:-//hacksw/handcal//NONSGML v1.0//EN
CALSCALE:GREGORIAN
BEGIN:VEVENT
UID:1129958817
DTSTART:20271001T150000Z
DTEND:20271001T153000Z
DTSTAMP:20260420T132230Z
LOCATION:Du må huske og søke Coaching og ledelse ved Universitetet i Sørøst-Norge innen 01.02.2028
DESCRIPTION:Du må huske og søke Coaching og ledelse ved Universitetet i Sørøst-Norge innen 01.02.2028
URL;VALUE=URI:https://www.usn.no/studier/coaching-og-ledelse/vestfold
SUMMARY:Coaching og ledelse
BEGIN:VALARM
TRIGGER:-PT15M
ACTION:DISPLAY
DESCRIPTION:Påminnelse
END:VALARM
END:VEVENT
BEGIN:VEVENT
UID:257955833
DTSTART:20280201T160000Z
DTEND:20280201T163000Z
DTSTAMP:20260420T132230Z
LOCATION:I dag er siste frist for å søke Coaching og ledelse ved Universitetet i Sørøst-Norge
DESCRIPTION:I dag er siste frist for å søke Coaching og ledelse ved Universitetet i Sørøst-Norge
URL;VALUE=URI:https://www.usn.no/studier/coaching-og-ledelse/vestfold
SUMMARY:Coaching og ledelse
BEGIN:VALARM
TRIGGER:-PT15M
ACTION:DISPLAY
DESCRIPTION:Påminnelse
END:VALARM
END:VEVENT
END:VCALENDAR