BEGIN:VCALENDAR
VERSION:2.0
PRODID:-//hacksw/handcal//NONSGML v1.0//EN
CALSCALE:GREGORIAN
BEGIN:VEVENT
UID:1633261043
DTSTART:20261001T150000Z
DTEND:20261001T153000Z
DTSTAMP:20260420T115523Z
LOCATION:Du må huske og søke Coaching og ledelse ved Universitetet i Sørøst-Norge innen 10.01.2027
DESCRIPTION:Du må huske og søke Coaching og ledelse ved Universitetet i Sørøst-Norge innen 10.01.2027
URL;VALUE=URI:https://www.usn.no/studier/coaching-og-ledelse/porsgrunn
SUMMARY:Coaching og ledelse
BEGIN:VALARM
TRIGGER:-PT15M
ACTION:DISPLAY
DESCRIPTION:Påminnelse
END:VALARM
END:VEVENT
BEGIN:VEVENT
UID:1457632764
DTSTART:20270110T160000Z
DTEND:20270110T163000Z
DTSTAMP:20260420T115523Z
LOCATION:I dag er siste frist for å søke Coaching og ledelse ved Universitetet i Sørøst-Norge
DESCRIPTION:I dag er siste frist for å søke Coaching og ledelse ved Universitetet i Sørøst-Norge
URL;VALUE=URI:https://www.usn.no/studier/coaching-og-ledelse/porsgrunn
SUMMARY:Coaching og ledelse
BEGIN:VALARM
TRIGGER:-PT15M
ACTION:DISPLAY
DESCRIPTION:Påminnelse
END:VALARM
END:VEVENT
END:VCALENDAR