BEGIN:VCALENDAR
VERSION:2.0
PRODID:-//hacksw/handcal//NONSGML v1.0//EN
CALSCALE:GREGORIAN
BEGIN:VEVENT
UID:1587009067
DTSTART:20271001T150000Z
DTEND:20271001T153000Z
DTSTAMP:20260420T131350Z
LOCATION:Du må huske og søke Human Resource Management (HRM) – Ledelse av menneskelige ressurser ved Universitetet i Sørøst-Norge innen 10.01.2028
DESCRIPTION:Du må huske og søke Human Resource Management (HRM) – Ledelse av menneskelige ressurser ved Universitetet i Sørøst-Norge innen 10.01.2028
URL;VALUE=URI:https://www.usn.no/studier/human-resource-management/vestfold-deltid
SUMMARY:Human Resource Management (HRM) – Ledelse av menneskelige ressurser
BEGIN:VALARM
TRIGGER:-PT15M
ACTION:DISPLAY
DESCRIPTION:Påminnelse
END:VALARM
END:VEVENT
BEGIN:VEVENT
UID:567951463
DTSTART:20280110T160000Z
DTEND:20280110T163000Z
DTSTAMP:20260420T131350Z
LOCATION:I dag er siste frist for å søke Human Resource Management (HRM) – Ledelse av menneskelige ressurser ved Universitetet i Sørøst-Norge
DESCRIPTION:I dag er siste frist for å søke Human Resource Management (HRM) – Ledelse av menneskelige ressurser ved Universitetet i Sørøst-Norge
URL;VALUE=URI:https://www.usn.no/studier/human-resource-management/vestfold-deltid
SUMMARY:Human Resource Management (HRM) – Ledelse av menneskelige ressurser
BEGIN:VALARM
TRIGGER:-PT15M
ACTION:DISPLAY
DESCRIPTION:Påminnelse
END:VALARM
END:VEVENT
END:VCALENDAR