BEGIN:VCALENDAR
VERSION:2.0
PRODID:-//USN//NONSGML usn.calendar//EN
CALSCALE:GREGORIAN
BEGIN:VEVENT
UID:69ed578ba3da1-20191209T140000@usn.no
DTSTART:20191209T140000
DTEND:20191209T190000
DTSTAMP:20260426T020843
LOCATION:Ringerike, Room C205
DESCRIPTION:https://www.usn.no/english/research/postgraduate-studies-phd/public-defences/2019/phd-defence-daoyan-jin?instance=0
SUMMARY:PhD defence: Daoyan Jin
BEGIN:VALARM
TRIGGER:-PT30M
ACTION:DISPLAY
DESCRIPTION:Påminnelse
END:VALARM
END:VEVENT
END:VCALENDAR
