BEGIN:VCALENDAR
VERSION:2.0
PRODID:-//USN//NONSGML usn.calendar//EN
CALSCALE:GREGORIAN
BEGIN:VEVENT
UID:69ed2aca244d7-20190821T100000@usn.no
DTSTART:20190821T100000
DTEND:20190821T150000
DTSTAMP:20260425T225746
LOCATION:Ringerike, Room B 101
DESCRIPTION:https://www.usn.no/english/research/postgraduate-studies-phd/public-defences/2019/phd-defence-ajmal-hafeez?instance=0
SUMMARY:PhD defence: Ajmal Hafeez
BEGIN:VALARM
TRIGGER:-PT30M
ACTION:DISPLAY
DESCRIPTION:Påminnelse
END:VALARM
END:VEVENT
END:VCALENDAR
