BEGIN:VCALENDAR
VERSION:2.0
PRODID:-//USN//NONSGML usn.calendar//EN
CALSCALE:GREGORIAN
BEGIN:VEVENT
UID:69ed16e8576fc-20201216T103000@usn.no
DTSTART:20201216T103000
DTEND:20201216T160000
DTSTAMP:20260425T213256
LOCATION:Digitalt på Zoom.
DESCRIPTION:https://www.usn.no/forskning/doktorgradsutdanning/disputaser/2020/disputas-avisek-roy?instance=0
SUMMARY:Disputas: Avisek Roy
BEGIN:VALARM
TRIGGER:-PT30M
ACTION:DISPLAY
DESCRIPTION:Påminnelse
END:VALARM
END:VEVENT
END:VCALENDAR
