BEGIN:VCALENDAR
VERSION:2.0
PRODID:-//USN//NONSGML usn.calendar//EN
CALSCALE:GREGORIAN
BEGIN:VEVENT
UID:69e7fe2dba75f-20210414T140000@usn.no
DTSTART:20210414T140000
DTEND:20210414T160000
DTSTAMP:20260422T004605
LOCATION:Webinar
DESCRIPTION:https://www.usn.no/english/research/our-research-centres-and-groups/technology/norwegian-industrial-systems-engineering-research-group/events-1/sesg-webinar-systems-engineering-artificial-intelligence-and-big-data?instance=0
SUMMARY:SESG Webinar: Systems Engineering, Artificial Intelligence, and Big Data
BEGIN:VALARM
TRIGGER:-PT30M
ACTION:DISPLAY
DESCRIPTION:Påminnelse
END:VALARM
END:VEVENT
END:VCALENDAR
