BEGIN:VCALENDAR
VERSION:2.0
PRODID:-//USN//NONSGML usn.calendar//EN
CALSCALE:GREGORIAN
BEGIN:VEVENT
UID:69ec1a9357f2f-20220623T100000@usn.no
DTSTART:20220623T100000
DTEND:20220623T153000
DTSTAMP:20260425T033619
LOCATION:Politihøgskolen Stavern, Zoom
DESCRIPTION:https://www.usn.no/forskning/doktorgradsutdanning/disputaser/2022/disputas-jarle-berge?instance=0
SUMMARY:Disputas: Jarle Berge
BEGIN:VALARM
TRIGGER:-PT30M
ACTION:DISPLAY
DESCRIPTION:Påminnelse
END:VALARM
END:VEVENT
END:VCALENDAR
