BEGIN:VCALENDAR
VERSION:2.0
PRODID:-//USN//NONSGML usn.calendar//EN
CALSCALE:GREGORIAN
BEGIN:VEVENT
UID:69ed16f0bf9d5-20220922T100000@usn.no
DTSTART:20220922T100000
DTEND:20220922T153000
DTSTAMP:20260425T213304
LOCATION:Vestfold, A1-39 og Zoom
DESCRIPTION:https://www.usn.no/forskning/doktorgradsutdanning/disputaser/2022/disputas-karianne-nyheim-stray?instance=0
SUMMARY:Disputas: Karianne Nyheim Stray
BEGIN:VALARM
TRIGGER:-PT30M
ACTION:DISPLAY
DESCRIPTION:Påminnelse
END:VALARM
END:VEVENT
END:VCALENDAR
