BEGIN:VCALENDAR
VERSION:2.0
PRODID:-//USN//NONSGML usn.calendar//EN
CALSCALE:GREGORIAN
BEGIN:VEVENT
UID:69e7fee8e175c-20221124T140000@usn.no
DTSTART:20221124T140000
DTEND:20221124T170000
DTSTAMP:20260422T004912
LOCATION:Kongsberg, Krona
DESCRIPTION:https://www.usn.no/english/research/our-research-centres-and-groups/technology/norwegian-industrial-systems-engineering-research-group/events-1/welcome-to-sesg-november-24?instance=0
SUMMARY:Welcome to SESG November 24
BEGIN:VALARM
TRIGGER:-PT30M
ACTION:DISPLAY
DESCRIPTION:Påminnelse
END:VALARM
END:VEVENT
END:VCALENDAR
