BEGIN:VCALENDAR
VERSION:2.0
PRODID:-//USN//NONSGML usn.calendar//EN
CALSCALE:GREGORIAN
BEGIN:VEVENT
UID:69e814018efbd-20230215T140000@usn.no
DTSTART:20230215T140000
DTEND:20230215T170000
DTSTAMP:20260422T021913
LOCATION:Kongsberg, Class rooms 2228 and 2229
DESCRIPTION:https://www.usn.no/english/research/our-research-centres-and-groups/technology/norwegian-industrial-systems-engineering-research-group/events-1/welcome-to-sesg-february-15th?instance=0
SUMMARY:Welcome to SESG February 15th
BEGIN:VALARM
TRIGGER:-PT30M
ACTION:DISPLAY
DESCRIPTION:Påminnelse
END:VALARM
END:VEVENT
END:VCALENDAR
