BEGIN:VCALENDAR
VERSION:2.0
PRODID:-//USN//NONSGML usn.calendar//EN
CALSCALE:GREGORIAN
BEGIN:VEVENT
UID:69ed16ebb8200-20230831T093000@usn.no
DTSTART:20230831T093000
DTEND:20230831T153000
DTSTAMP:20260425T213259
LOCATION:Porsgrunn, Auditorium B-133  and Zoom
DESCRIPTION:https://www.usn.no/english/research/postgraduate-studies-phd/public-defences/2023/phd-defence-ron-mangalam-jacob?instance=0
SUMMARY:PhD defence: Ron Mangalam Jacob
BEGIN:VALARM
TRIGGER:-PT30M
ACTION:DISPLAY
DESCRIPTION:Påminnelse
END:VALARM
END:VEVENT
END:VCALENDAR
