BEGIN:VCALENDAR
VERSION:2.0
PRODID:-//USN//NONSGML usn.calendar//EN
CALSCALE:GREGORIAN
BEGIN:VEVENT
UID:69e7fe658b700-20231121T140000@usn.no
DTSTART:20231121T140000
DTEND:20231121T170000
DTSTAMP:20260422T004701
LOCATION:Kongsberg, Auditorium Becker
DESCRIPTION:https://www.usn.no/english/research/our-research-centres-and-groups/technology/norwegian-industrial-systems-engineering-research-group/events-1/revisiting-what-does-the-progress-in-ai-mean-for-systems-engineering-sesg?instance=0
SUMMARY:Revisiting what does the progress in AI mean for systems engineering? (SESG)
BEGIN:VALARM
TRIGGER:-PT30M
ACTION:DISPLAY
DESCRIPTION:Reminder
END:VALARM
END:VEVENT
END:VCALENDAR
