BEGIN:VCALENDAR
VERSION:2.0
PRODID:-//USN//NONSGML usn.calendar//EN
CALSCALE:GREGORIAN
BEGIN:VEVENT
UID:69ed828905b1c-20240209T100000@usn.no
DTSTART:20240209T100000
DTEND:20240209T160000
DTSTAMP:20260426T051209
LOCATION:Høgskolen i Østfold, campus Fredrikstad, H-113 og Zoom
DESCRIPTION:https://www.usn.no/forskning/doktorgradsutdanning/disputaser/2024/disputas-therese-dwyer-loken?instance=0
SUMMARY:Disputas: Therese Dwyer Løken
BEGIN:VALARM
TRIGGER:-PT30M
ACTION:DISPLAY
DESCRIPTION:Påminnelse
END:VALARM
END:VEVENT
END:VCALENDAR
