BEGIN:VCALENDAR
VERSION:2.0
PRODID:-//USN//NONSGML usn.calendar//EN
CALSCALE:GREGORIAN
BEGIN:VEVENT
UID:69e7fe94a48c3-20250213T140000@usn.no
DTSTART:20250213T140000
DTEND:20250213T170000
DTSTAMP:20260422T004748
LOCATION:Kongsberg
DESCRIPTION:https://www.usn.no/english/research/our-research-centres-and-groups/technology/norwegian-industrial-systems-engineering-research-group/events-1/where-are-we-on-the-digital-journey?instance=0
SUMMARY:Where are we on the Digital Journey?
BEGIN:VALARM
TRIGGER:-PT30M
ACTION:DISPLAY
DESCRIPTION:Påminnelse
END:VALARM
END:VEVENT
END:VCALENDAR
