BEGIN:VCALENDAR
VERSION:2.0
PRODID:-//USN//NONSGML usn.calendar//EN
CALSCALE:GREGORIAN
BEGIN:VEVENT
UID:69ed828d30619-20250527T100000@usn.no
DTSTART:20250527T100000
DTEND:20250527T150000
DTSTAMP:20260426T051213
LOCATION:Rauland, Myllarsalen
DESCRIPTION:https://www.usn.no/english/research/postgraduate-studies-phd/public-defences/2025/public-defence-benjamin-rygh?instance=0
SUMMARY:Public defence: Benjamin Rygh
BEGIN:VALARM
TRIGGER:-PT30M
ACTION:DISPLAY
DESCRIPTION:Påminnelse
END:VALARM
END:VEVENT
END:VCALENDAR
