BEGIN:VCALENDAR
VERSION:2.0
PRODID:-//USN//NONSGML usn.calendar//EN
CALSCALE:GREGORIAN
BEGIN:VEVENT
UID:69eccd508ceb4-20260520@usn.no
DTSTART;VALUE=DATE:20260520
DTEND;VALUE=DATE:20260522
DTSTAMP:20260425T161856
LOCATION:Quality Hotel Tønsberg, Tønsberg 3126
DESCRIPTION:https://www.usn.no/activities/nibs/kecibn/knowledge-exchange-conference-on-ib-teaching-and-learning-in-norway-2026?instance=0
SUMMARY:2026 - Knowledge Exchange Conference on IB Teaching and Learning in Norway
BEGIN:VALARM
TRIGGER:-PT30M
ACTION:DISPLAY
DESCRIPTION:Reminder
END:VALARM
END:VEVENT
END:VCALENDAR
