BEGIN:VCALENDAR
VERSION:2.0
PRODID:-//USN//NONSGML usn.calendar//EN
CALSCALE:GREGORIAN
BEGIN:VEVENT
UID:69e6346e6e90d-20250616T100000@usn.no
DTSTART:20250616T100000
DTEND:20250616T153000
DTSTAMP:20260420T161302
LOCATION:Drammen, auditorium A5508
DESCRIPTION:https://www.usn.no/forskning/doktorgradsutdanning/disputaser/2025/disputas-cathrine-mathisen?instance=0
SUMMARY:Disputas: Cathrine Mathisen
BEGIN:VALARM
TRIGGER:-PT30M
ACTION:DISPLAY
DESCRIPTION:Påminnelse
END:VALARM
END:VEVENT
END:VCALENDAR
