BEGIN:VCALENDAR
VERSION:2.0
PRODID:-//USN//NONSGML usn.calendar//EN
CALSCALE:GREGORIAN
BEGIN:VEVENT
UID:69e6719eddef9-20251002T090000@usn.no
DTSTART:20251002T090000
DTEND:20251002T150000
DTSTAMP:20260420T203406
LOCATION:Vestfold, Auditorium A1-36
DESCRIPTION:https://www.usn.no/forskning/doktorgradsutdanning/disputaser/2025/disputas-hasan-mahbub-tusher?instance=0
SUMMARY:Disputas: Hasan Mahbub Tusher
BEGIN:VALARM
TRIGGER:-PT30M
ACTION:DISPLAY
DESCRIPTION:Påminnelse
END:VALARM
END:VEVENT
END:VCALENDAR
