BEGIN:VCALENDAR
VERSION:2.0
PRODID:-//USN//NONSGML usn.calendar//EN
CALSCALE:GREGORIAN
BEGIN:VEVENT
UID:69ea4418790cd-20251021T113000@usn.no
DTSTART:20251021T113000
DTEND:20251021T120000
DTSTAMP:20260423T180856
LOCATION:Webinar, Zoom
DESCRIPTION:https://www.usn.no/english/about/educ/calendar/?instance=0
SUMMARY:USN-experience with COIL in EDUC: Planning and Teaching
BEGIN:VALARM
TRIGGER:-PT30M
ACTION:DISPLAY
DESCRIPTION:Påminnelse
END:VALARM
END:VEVENT
END:VCALENDAR
