BEGIN:VCALENDAR
VERSION:2.0
PRODID:-//USN//NONSGML usn.calendar//EN
CALSCALE:GREGORIAN
BEGIN:VEVENT
UID:69e8125e5fed6-20251120T140000@usn.no
DTSTART:20251120T140000
DTEND:20251120T170000
DTSTAMP:20260422T021214
LOCATION:Kongsberg
DESCRIPTION:https://www.usn.no/english/research/our-research-centres-and-groups/technology/norwegian-industrial-systems-engineering-research-group/events-1/welcome-to-fall-2025-systems-engineering-study-group-sesg?instance=0
SUMMARY:Welcome to Fall 2025, Systems Engineering Study Group (SESG)
BEGIN:VALARM
TRIGGER:-PT30M
ACTION:DISPLAY
DESCRIPTION:Påminnelse
END:VALARM
END:VEVENT
END:VCALENDAR
