BEGIN:VCALENDAR
VERSION:2.0
PRODID:-//hacksw/handcal//NONSGML v1.0//EN
CALSCALE:GREGORIAN
BEGIN:VEVENT
UID:903038468
DTSTART:20261001T150000Z
DTEND:20261001T153000Z
DTSTAMP:20260420T132311Z
LOCATION:Du må huske og søke Samvirke og beredskap ved Universitetet i Sørøst-Norge innen 03.02.2027
DESCRIPTION:Du må huske og søke Samvirke og beredskap ved Universitetet i Sørøst-Norge innen 03.02.2027
URL;VALUE=URI:https://www.usn.no/studier/samvirke-og-beredskap/porsgrunn
SUMMARY:Samvirke og beredskap
BEGIN:VALARM
TRIGGER:-PT15M
ACTION:DISPLAY
DESCRIPTION:Påminnelse
END:VALARM
END:VEVENT
BEGIN:VEVENT
UID:958107524
DTSTART:20270203T160000Z
DTEND:20270203T163000Z
DTSTAMP:20260420T132311Z
LOCATION:I dag er siste frist for å søke Samvirke og beredskap ved Universitetet i Sørøst-Norge
DESCRIPTION:I dag er siste frist for å søke Samvirke og beredskap ved Universitetet i Sørøst-Norge
URL;VALUE=URI:https://www.usn.no/studier/samvirke-og-beredskap/porsgrunn
SUMMARY:Samvirke og beredskap
BEGIN:VALARM
TRIGGER:-PT15M
ACTION:DISPLAY
DESCRIPTION:Påminnelse
END:VALARM
END:VEVENT
END:VCALENDAR