BEGIN:VCALENDAR
VERSION:2.0
PRODID:-//USN//NONSGML usn.calendar//EN
CALSCALE:GREGORIAN
BEGIN:VEVENT
UID:69eb9d8d1cd4d-20260319T100000@usn.no
DTSTART:20260319T100000
DTEND:20260319T150000
DTSTAMP:20260424T184253
LOCATION:Vestfold
DESCRIPTION:https://www.usn.no/kalender/karrieredager/karrieredag-for-okonomi-og-it-studenter?instance=0
SUMMARY:Karrieredagen for økonomi- og IT-studenter
BEGIN:VALARM
TRIGGER:-PT30M
ACTION:DISPLAY
DESCRIPTION:Påminnelse
END:VALARM
END:VEVENT
END:VCALENDAR
