BEGIN:VCALENDAR
VERSION:2.0
PRODID:-//USN//NONSGML usn.calendar//EN
CALSCALE:GREGORIAN
BEGIN:VEVENT
UID:69ed57824a530-20261124@usn.no
DTSTART;VALUE=DATE:20261124
DTEND;VALUE=DATE:20261127
DTSTAMP:20260426T020834
DESCRIPTION:https://www.usn.no/english/research/postgraduate-studies-phd/our-phd-programmes/nautical-operations/norwegian-maritime-days?instance=0
SUMMARY:Norwegian Maritime Days
BEGIN:VALARM
TRIGGER:-PT30M
ACTION:DISPLAY
DESCRIPTION:Påminnelse
END:VALARM
END:VEVENT
END:VCALENDAR
