BEGIN:VCALENDAR
VERSION:2.0
PRODID:-//USN//NONSGML usn.calendar//EN
CALSCALE:GREGORIAN
BEGIN:VEVENT
UID:69ea8b2d5f921-20260603T083000@usn.no
DTSTART:20260603T083000
DTEND:20260605T160000
DTSTAMP:20260423T231213
LOCATION:Italia
DESCRIPTION:https://www.usn.no/educ/kalender/fa-educ-rabatt-pa-eucen-konferansen-2026?instance=0
SUMMARY:Få EDUC-rabatt på EUCEN-konferansen 2026 på Sardinia
BEGIN:VALARM
TRIGGER:-PT30M
ACTION:DISPLAY
DESCRIPTION:Påminnelse
END:VALARM
END:VEVENT
END:VCALENDAR
