BEGIN:VCALENDAR
VERSION:2.0
PRODID:-//USN//NONSGML usn.calendar//EN
CALSCALE:GREGORIAN
BEGIN:VEVENT
UID:69e626f5b47aa-20260905T120000@usn.no
DTSTART:20260905T120000
DTEND:20260905T130000
DTSTAMP:20260420T151533
LOCATION:Kongsberg bibliotek
DESCRIPTION:https://www.usn.no/forskning/forskningsformidling/lordagsuniversitetet/kalender/kongsberg-er-det-for-javlig-a-vare-ung-i-dag?instance=0
SUMMARY:Lørdagsuniversitetet Kongsberg Er det for jævlig å være ung i dag?
BEGIN:VALARM
TRIGGER:-PT30M
ACTION:DISPLAY
DESCRIPTION:Påminnelse
END:VALARM
END:VEVENT
END:VCALENDAR
