BEGIN:VCALENDAR
VERSION:2.0
PRODID:-//USN//NONSGML usn.calendar//EN
CALSCALE:GREGORIAN
BEGIN:VEVENT
UID:69e611b5242df-20260505T100000@usn.no
DTSTART:20260505T100000
DTEND:20260505T150000
DTSTAMP:20260420T134453
LOCATION:Bø, Rom AO Vinje 6-103 og Zoom
DESCRIPTION:https://www.usn.no/forskning/doktorgradsutdanning/disputaser/disputas-zohreh-abdollahkhani?instance=0
SUMMARY:Disputas: Zohreh Abdollahkhani
BEGIN:VALARM
TRIGGER:-PT30M
ACTION:DISPLAY
DESCRIPTION:Påminnelse
END:VALARM
END:VEVENT
END:VCALENDAR
