BEGIN:VCALENDAR
VERSION:2.0
PRODID:-//USN//NONSGML usn.calendar//EN
CALSCALE:GREGORIAN
BEGIN:VEVENT
UID:69e6125cf2c08-20260505T100000@usn.no
DTSTART:20260505T100000
DTEND:20260505T150000
DTSTAMP:20260420T134740
LOCATION:Bø, Room AO Vinje 6-103 and Zoom
DESCRIPTION:https://www.usn.no/english/research/postgraduate-studies-phd/public-defences/public-defence-zohreh-abdollahkhani?instance=0
SUMMARY:Public Defence: Zohreh Abdollahkhani
BEGIN:VALARM
TRIGGER:-PT30M
ACTION:DISPLAY
DESCRIPTION:Påminnelse
END:VALARM
END:VEVENT
END:VCALENDAR
