BEGIN:VCALENDAR
VERSION:2.0
PRODID:-//USN//NONSGML usn.calendar//EN
CALSCALE:GREGORIAN
BEGIN:VEVENT
UID:69e61153d4134-20260630T083000@usn.no
DTSTART:20260630T083000
DTEND:20260630T173000
DTSTAMP:20260420T134315
LOCATION:Kongsberg, Becker Auditorium, Krona
DESCRIPTION:https://www.usn.no/english/research/our-research-centres-and-groups/technology/norwegian-industrial-systems-engineering-research-group/events/ksee-2025-transdisciplinary-collaboration-is-key-to-successful-systems-development-1?instance=0
SUMMARY:KSEE 2026: From Intent to Impact - Systems of Systems Engineering with Digital Ways of Working
BEGIN:VALARM
TRIGGER:-PT30M
ACTION:DISPLAY
DESCRIPTION:Påminnelse
END:VALARM
END:VEVENT
END:VCALENDAR
